BEGIN:VCALENDAR
VERSION:2.0
PRODID:-//Judo Salzkotten - ECPv6.15.20//NONSGML v1.0//EN
CALSCALE:GREGORIAN
METHOD:PUBLISH
X-ORIGINAL-URL:https://judo-salzkotten.de
X-WR-CALDESC:Veranstaltungen für Judo Salzkotten
REFRESH-INTERVAL;VALUE=DURATION:PT1H
X-Robots-Tag:noindex
X-PUBLISHED-TTL:PT1H
BEGIN:VTIMEZONE
TZID:Europe/Berlin
BEGIN:DAYLIGHT
TZOFFSETFROM:+0100
TZOFFSETTO:+0200
TZNAME:CEST
DTSTART:20250330T010000
END:DAYLIGHT
BEGIN:STANDARD
TZOFFSETFROM:+0200
TZOFFSETTO:+0100
TZNAME:CET
DTSTART:20251026T010000
END:STANDARD
BEGIN:DAYLIGHT
TZOFFSETFROM:+0100
TZOFFSETTO:+0200
TZNAME:CEST
DTSTART:20260329T010000
END:DAYLIGHT
BEGIN:STANDARD
TZOFFSETFROM:+0200
TZOFFSETTO:+0100
TZNAME:CET
DTSTART:20261025T010000
END:STANDARD
BEGIN:DAYLIGHT
TZOFFSETFROM:+0100
TZOFFSETTO:+0200
TZNAME:CEST
DTSTART:20270328T010000
END:DAYLIGHT
BEGIN:STANDARD
TZOFFSETFROM:+0200
TZOFFSETTO:+0100
TZNAME:CET
DTSTART:20271031T010000
END:STANDARD
END:VTIMEZONE
BEGIN:VEVENT
DTSTART;TZID=Europe/Berlin:20260201T080000
DTEND;TZID=Europe/Berlin:20260201T170000
DTSTAMP:20260422T104951
CREATED:20251013T134828Z
LAST-MODIFIED:20251013T134828Z
UID:7461-1769932800-1769965200@judo-salzkotten.de
SUMMARY:KEM u11\, u15
DESCRIPTION:
URL:https://judo-salzkotten.de/event/kem-u11-u15/
LOCATION:Bad Lippspringe\, Neue Sporthalle der Concordiaschule\, Triftstraße 5\, Bad Lippspringe\, NRW\, 33175\, Germany
CATEGORIES:Turnier
END:VEVENT
BEGIN:VEVENT
DTSTART;TZID=Europe/Berlin:20260208T080000
DTEND;TZID=Europe/Berlin:20260208T170000
DTSTAMP:20260422T104951
CREATED:20251013T134112Z
LAST-MODIFIED:20260115T175427Z
UID:7452-1770537600-1770570000@judo-salzkotten.de
SUMMARY:BEM u11\, u15\, u18
DESCRIPTION:
URL:https://judo-salzkotten.de/event/bem-u11-u15-u18/
LOCATION:Herford\, Königin-Mathilde-Gymnasium\, Vlothoer Straße 1\, Herford\, NRW\, 32049\, Germany
CATEGORIES:Turnier
END:VEVENT
BEGIN:VEVENT
DTSTART;TZID=Europe/Berlin:20260210T190000
DTEND;TZID=Europe/Berlin:20260210T210000
DTSTAMP:20260422T104951
CREATED:20260206T092708Z
LAST-MODIFIED:20260206T092708Z
UID:7766-1770750000-1770757200@judo-salzkotten.de
SUMMARY:Mannschaftstraining Februar 2026
DESCRIPTION:
URL:https://judo-salzkotten.de/event/mannschaftstraining-februar-2026/
LOCATION:Schloss Neuhaus\, Heinrich-Bonnhöfer Grundschule\, Memelstraße 11\,\, Paderobrn\, Schloss Neuhaus\, NRW\, 33104\, Germany
CATEGORIES:Training
END:VEVENT
BEGIN:VEVENT
DTSTART;TZID=Europe/Berlin:20260214T080000
DTEND;TZID=Europe/Berlin:20260214T170000
DTSTAMP:20260422T104951
CREATED:20251013T135641Z
LAST-MODIFIED:20251013T135641Z
UID:7480-1771056000-1771088400@judo-salzkotten.de
SUMMARY:WdEM u18
DESCRIPTION:
URL:https://judo-salzkotten.de/event/wdem-u18/
LOCATION:NRW
CATEGORIES:Turnier
END:VEVENT
BEGIN:VEVENT
DTSTART;TZID=Europe/Berlin:20260221T080000
DTEND;TZID=Europe/Berlin:20260221T170000
DTSTAMP:20260422T104951
CREATED:20251013T135706Z
LAST-MODIFIED:20260119T104649Z
UID:7482-1771660800-1771693200@judo-salzkotten.de
SUMMARY:offene WdEM u21
DESCRIPTION:
URL:https://judo-salzkotten.de/event/wdem-u21/
LOCATION:NRW
CATEGORIES:Turnier
END:VEVENT
BEGIN:VEVENT
DTSTART;TZID=Europe/Berlin:20260225T191500
DTEND;TZID=Europe/Berlin:20260225T220000
DTSTAMP:20260422T104951
CREATED:20260222T210403Z
LAST-MODIFIED:20260222T210439Z
UID:7799-1772046900-1772056800@judo-salzkotten.de
SUMMARY:Vorstandssitzung
DESCRIPTION:
URL:https://judo-salzkotten.de/event/vorstandssitzung-5/
LOCATION:NRW
CATEGORIES:Vorstand
END:VEVENT
BEGIN:VEVENT
DTSTART;TZID=Europe/Berlin:20260228T080000
DTEND;TZID=Europe/Berlin:20260228T170000
DTSTAMP:20260422T104951
CREATED:20251013T135734Z
LAST-MODIFIED:20251013T135734Z
UID:7484-1772265600-1772298000@judo-salzkotten.de
SUMMARY:WdEM u15 m
DESCRIPTION:
URL:https://judo-salzkotten.de/event/wdem-u15-m/
LOCATION:NRW
CATEGORIES:Turnier
END:VEVENT
BEGIN:VEVENT
DTSTART;TZID=Europe/Berlin:20260228T080000
DTEND;TZID=Europe/Berlin:20260301T170000
DTSTAMP:20260422T104951
CREATED:20251013T135832Z
LAST-MODIFIED:20251013T135832Z
UID:7488-1772265600-1772384400@judo-salzkotten.de
SUMMARY:DEM u18
DESCRIPTION:
URL:https://judo-salzkotten.de/event/dem-u18/
LOCATION:NRW
CATEGORIES:Turnier
END:VEVENT
END:VCALENDAR