BEGIN:VCALENDAR
VERSION:2.0
PRODID:-//Judo Salzkotten - ECPv6.15.20//NONSGML v1.0//EN
CALSCALE:GREGORIAN
METHOD:PUBLISH
X-ORIGINAL-URL:https://judo-salzkotten.de
X-WR-CALDESC:Veranstaltungen für Judo Salzkotten
REFRESH-INTERVAL;VALUE=DURATION:PT1H
X-Robots-Tag:noindex
X-PUBLISHED-TTL:PT1H
BEGIN:VTIMEZONE
TZID:Europe/Berlin
BEGIN:DAYLIGHT
TZOFFSETFROM:+0100
TZOFFSETTO:+0200
TZNAME:CEST
DTSTART:20250330T010000
END:DAYLIGHT
BEGIN:STANDARD
TZOFFSETFROM:+0200
TZOFFSETTO:+0100
TZNAME:CET
DTSTART:20251026T010000
END:STANDARD
BEGIN:DAYLIGHT
TZOFFSETFROM:+0100
TZOFFSETTO:+0200
TZNAME:CEST
DTSTART:20260329T010000
END:DAYLIGHT
BEGIN:STANDARD
TZOFFSETFROM:+0200
TZOFFSETTO:+0100
TZNAME:CET
DTSTART:20261025T010000
END:STANDARD
BEGIN:DAYLIGHT
TZOFFSETFROM:+0100
TZOFFSETTO:+0200
TZNAME:CEST
DTSTART:20270328T010000
END:DAYLIGHT
BEGIN:STANDARD
TZOFFSETFROM:+0200
TZOFFSETTO:+0100
TZNAME:CET
DTSTART:20271031T010000
END:STANDARD
END:VTIMEZONE
BEGIN:VEVENT
DTSTART;TZID=Europe/Berlin:20260117T160000
DTEND;TZID=Europe/Berlin:20260117T220000
DTSTAMP:20260422T122023
CREATED:20251008T201202Z
LAST-MODIFIED:20251008T201202Z
UID:7412-1768665600-1768687200@judo-salzkotten.de
SUMMARY:Trainer-Event
DESCRIPTION:
URL:https://judo-salzkotten.de/event/trainer-event/
LOCATION:NRW
CATEGORIES:Event
END:VEVENT
BEGIN:VEVENT
DTSTART;TZID=Europe/Berlin:20260120T190000
DTEND;TZID=Europe/Berlin:20260120T210000
DTSTAMP:20260422T122023
CREATED:20251013T140723Z
LAST-MODIFIED:20251013T141209Z
UID:7507-1768935600-1768942800@judo-salzkotten.de
SUMMARY:Kreis Danversammlung Bielefeld NWDK
DESCRIPTION:
URL:https://judo-salzkotten.de/event/kreis-danversammlung-bielefeld/
LOCATION:Wiedenbrück\, Dojo\, Heidbrinkstraße 11\, Rheda-Wiedenbrück\, NRW\, 33378\, Germany
CATEGORIES:NWDK,Vorstand
END:VEVENT
BEGIN:VEVENT
DTSTART;TZID=Europe/Berlin:20260121T191500
DTEND;TZID=Europe/Berlin:20260121T220000
DTSTAMP:20260422T122023
CREATED:20260111T192528Z
LAST-MODIFIED:20260111T192528Z
UID:7715-1769022900-1769032800@judo-salzkotten.de
SUMMARY:Vorstandssitzung
DESCRIPTION:
URL:https://judo-salzkotten.de/event/vorstandssitzung-4/
LOCATION:NRW
CATEGORIES:Vorstand
END:VEVENT
BEGIN:VEVENT
DTSTART;TZID=Europe/Berlin:20260131T080000
DTEND;TZID=Europe/Berlin:20260131T170000
DTSTAMP:20260422T122023
CREATED:20251013T135547Z
LAST-MODIFIED:20251013T135547Z
UID:7478-1769846400-1769878800@judo-salzkotten.de
SUMMARY:LET Kyu-Cup Senioren
DESCRIPTION:
URL:https://judo-salzkotten.de/event/let-kyu-cup-senioren/
LOCATION:NRW
CATEGORIES:Turnier
END:VEVENT
END:VCALENDAR