BEGIN:VCALENDAR
VERSION:2.0
PRODID:-//Judo Salzkotten - ECPv6.15.20//NONSGML v1.0//EN
CALSCALE:GREGORIAN
METHOD:PUBLISH
X-WR-CALNAME:Judo Salzkotten
X-ORIGINAL-URL:https://judo-salzkotten.de
X-WR-CALDESC:Veranstaltungen für Judo Salzkotten
REFRESH-INTERVAL;VALUE=DURATION:PT1H
X-Robots-Tag:noindex
X-PUBLISHED-TTL:PT1H
BEGIN:VTIMEZONE
TZID:Europe/Berlin
BEGIN:DAYLIGHT
TZOFFSETFROM:+0100
TZOFFSETTO:+0200
TZNAME:CEST
DTSTART:20240331T010000
END:DAYLIGHT
BEGIN:STANDARD
TZOFFSETFROM:+0200
TZOFFSETTO:+0100
TZNAME:CET
DTSTART:20241027T010000
END:STANDARD
BEGIN:DAYLIGHT
TZOFFSETFROM:+0100
TZOFFSETTO:+0200
TZNAME:CEST
DTSTART:20250330T010000
END:DAYLIGHT
BEGIN:STANDARD
TZOFFSETFROM:+0200
TZOFFSETTO:+0100
TZNAME:CET
DTSTART:20251026T010000
END:STANDARD
BEGIN:DAYLIGHT
TZOFFSETFROM:+0100
TZOFFSETTO:+0200
TZNAME:CEST
DTSTART:20260329T010000
END:DAYLIGHT
BEGIN:STANDARD
TZOFFSETFROM:+0200
TZOFFSETTO:+0100
TZNAME:CET
DTSTART:20261025T010000
END:STANDARD
END:VTIMEZONE
BEGIN:VEVENT
DTSTART;TZID=Europe/Berlin:20251206T100000
DTEND;TZID=Europe/Berlin:20251206T170000
DTSTAMP:20260422T134657
CREATED:20251007T071119Z
LAST-MODIFIED:20251205T122032Z
UID:7404-1765015200-1765040400@judo-salzkotten.de
SUMMARY:KT Landesliga Detmold
DESCRIPTION:
URL:https://judo-salzkotten.de/event/kt-landesliga-detmold/
LOCATION:NRW
CATEGORIES:Mannschaft - Salzkotten,Turnier
END:VEVENT
BEGIN:VEVENT
DTSTART;TZID=Europe/Berlin:20251207T140000
DTEND;TZID=Europe/Berlin:20251207T170000
DTSTAMP:20260422T134657
CREATED:20251106T143413Z
LAST-MODIFIED:20251106T143413Z
UID:7622-1765116000-1765126800@judo-salzkotten.de
SUMMARY:Kyu Prüfung
DESCRIPTION:
URL:https://judo-salzkotten.de/event/kyu-pruefung-3/
LOCATION:NRW
CATEGORIES:Prüfung
END:VEVENT
BEGIN:VEVENT
DTSTART;TZID=Europe/Berlin:20251213T080000
DTEND;TZID=Europe/Berlin:20251213T170000
DTSTAMP:20260422T134657
CREATED:20250603T140848Z
LAST-MODIFIED:20250603T140848Z
UID:7204-1765612800-1765645200@judo-salzkotten.de
SUMMARY:27. Landesoffenes Mixed-Turnier für Frauen- und Männermannschaften
DESCRIPTION:
URL:https://judo-salzkotten.de/event/27-landesoffenes-mixed-turnier-fuer-frauen-und-maennermannschaften/
LOCATION:NRW
CATEGORIES:Mannschaft - Olsberg,Mannschaft - Paderborn,Mannschaft - Salzkotten
END:VEVENT
END:VCALENDAR