BEGIN:VCALENDAR
VERSION:2.0
PRODID:-//Judo Salzkotten - ECPv6.15.20//NONSGML v1.0//EN
CALSCALE:GREGORIAN
METHOD:PUBLISH
X-WR-CALNAME:Judo Salzkotten
X-ORIGINAL-URL:https://judo-salzkotten.de
X-WR-CALDESC:Veranstaltungen für Judo Salzkotten
REFRESH-INTERVAL;VALUE=DURATION:PT1H
X-Robots-Tag:noindex
X-PUBLISHED-TTL:PT1H
BEGIN:VTIMEZONE
TZID:Europe/Berlin
BEGIN:DAYLIGHT
TZOFFSETFROM:+0100
TZOFFSETTO:+0200
TZNAME:CEST
DTSTART:20240331T010000
END:DAYLIGHT
BEGIN:STANDARD
TZOFFSETFROM:+0200
TZOFFSETTO:+0100
TZNAME:CET
DTSTART:20241027T010000
END:STANDARD
BEGIN:DAYLIGHT
TZOFFSETFROM:+0100
TZOFFSETTO:+0200
TZNAME:CEST
DTSTART:20250330T010000
END:DAYLIGHT
BEGIN:STANDARD
TZOFFSETFROM:+0200
TZOFFSETTO:+0100
TZNAME:CET
DTSTART:20251026T010000
END:STANDARD
BEGIN:DAYLIGHT
TZOFFSETFROM:+0100
TZOFFSETTO:+0200
TZNAME:CEST
DTSTART:20260329T010000
END:DAYLIGHT
BEGIN:STANDARD
TZOFFSETFROM:+0200
TZOFFSETTO:+0100
TZNAME:CET
DTSTART:20261025T010000
END:STANDARD
END:VTIMEZONE
BEGIN:VEVENT
DTSTART;TZID=Europe/Berlin:20250906T090000
DTEND;TZID=Europe/Berlin:20250906T170000
DTSTAMP:20260422T181431
CREATED:20250603T134242Z
LAST-MODIFIED:20250603T134250Z
UID:7153-1757149200-1757178000@judo-salzkotten.de
SUMMARY:Landeseinzelturnier u17 & u20
DESCRIPTION:
URL:https://judo-salzkotten.de/event/let-u17-u20/
LOCATION:Lünen\, Käthe-Kollwitz-Gesamtschule\, Karl-Kiehm-Weg 9\, Lünen\, NRW\, 33154\, Germany
CATEGORIES:Turnier
END:VEVENT
BEGIN:VEVENT
DTSTART;TZID=Europe/Berlin:20250907T090000
DTEND;TZID=Europe/Berlin:20250907T170000
DTSTAMP:20260422T181431
CREATED:20250603T134350Z
LAST-MODIFIED:20250603T141411Z
UID:7158-1757235600-1757264400@judo-salzkotten.de
SUMMARY:Landeseinzelturnier u14
DESCRIPTION:
URL:https://judo-salzkotten.de/event/landeseinzelturnier-u14/
LOCATION:Lünen\, Käthe-Kollwitz-Gesamtschule\, Karl-Kiehm-Weg 9\, Lünen\, NRW\, 33154\, Germany
CATEGORIES:Turnier
END:VEVENT
BEGIN:VEVENT
DTSTART;TZID=Europe/Berlin:20250907T100000
DTEND;TZID=Europe/Berlin:20250907T140000
DTSTAMP:20260422T181431
CREATED:20250603T134548Z
LAST-MODIFIED:20250603T134648Z
UID:7160-1757239200-1757253600@judo-salzkotten.de
SUMMARY:3. KT Verbandsliga
DESCRIPTION:
URL:https://judo-salzkotten.de/event/3-kt-verbandsliga/
LOCATION:Witten\, Sportzentrum Kälberweg\, Kälberweg 2-4\, Witten - Annen\, NRW\, 58453\, Germany
CATEGORIES:Mannschaft - Salzkotten
END:VEVENT
BEGIN:VEVENT
DTSTART;TZID=Europe/Berlin:20250913T090000
DTEND;TZID=Europe/Berlin:20250913T140000
DTSTAMP:20260422T181431
CREATED:20250603T134825Z
LAST-MODIFIED:20250603T134825Z
UID:7164-1757754000-1757772000@judo-salzkotten.de
SUMMARY:Bezirks Einzelmeisterschaften Senioren
DESCRIPTION:
URL:https://judo-salzkotten.de/event/bezirks-einzelmeisterschaften-senioren/
LOCATION:Herford\, Königin-Mathilde-Gymnasium\, Vlothoer Straße 1\, Herford\, NRW\, 32049\, Germany
CATEGORIES:Turnier
END:VEVENT
BEGIN:VEVENT
DTSTART;TZID=Europe/Berlin:20250914T100000
DTEND;TZID=Europe/Berlin:20250914T170000
DTSTAMP:20260422T181431
CREATED:20250603T135038Z
LAST-MODIFIED:20250603T135142Z
UID:7167-1757844000-1757869200@judo-salzkotten.de
SUMMARY:Westdeutsche Einzelmeisterschaften ü30
DESCRIPTION:
URL:https://judo-salzkotten.de/event/westdeutsche-einzelmeisterschaften-senioren/
LOCATION:Hattingen\, Sportzentrum\, Talstraße 17\, Hattingen\, NRW\, 45525\, Germany
CATEGORIES:Turnier
END:VEVENT
BEGIN:VEVENT
DTSTART;TZID=Europe/Berlin:20250917T180000
DTEND;TZID=Europe/Berlin:20250917T210000
DTSTAMP:20260422T181431
CREATED:20250603T135610Z
LAST-MODIFIED:20250603T141249Z
UID:7177-1758132000-1758142800@judo-salzkotten.de
SUMMARY:Abteilungs Hauptversammlung + Vorstandswahlen
DESCRIPTION:
URL:https://judo-salzkotten.de/event/abteilungs-hauptversammlung-vorstandswahlen/
LOCATION:Salzkotten\, Ackerbürgerhaus\, Vielser Straße 8\, Salzkotten\, NRW\, 33154\, Germany
CATEGORIES:Vorstand
END:VEVENT
BEGIN:VEVENT
DTSTART;TZID=Europe/Berlin:20250920T080000
DTEND;TZID=Europe/Berlin:20250920T170000
DTSTAMP:20260422T181431
CREATED:20250603T135258Z
LAST-MODIFIED:20250603T141447Z
UID:7173-1758355200-1758387600@judo-salzkotten.de
SUMMARY:Westdeutsche Einelmeisterschaften Senioren
DESCRIPTION:
URL:https://judo-salzkotten.de/event/westdeutsche-einelmeisterschaften/
LOCATION:NRW
CATEGORIES:Turnier
END:VEVENT
BEGIN:VEVENT
DTSTART;TZID=Europe/Berlin:20250924T190000
DTEND;TZID=Europe/Berlin:20250924T210000
DTSTAMP:20260422T181431
CREATED:20250603T135414Z
LAST-MODIFIED:20250603T135414Z
UID:7175-1758740400-1758747600@judo-salzkotten.de
SUMMARY:Bezirksjugendtag & Bezirksversammlung
DESCRIPTION:
URL:https://judo-salzkotten.de/event/bezirksjugendtag-bezirksversammlung/
LOCATION:NRW
CATEGORIES:Vorstand
END:VEVENT
BEGIN:VEVENT
DTSTART;TZID=Europe/Berlin:20250927T100000
DTEND;TZID=Europe/Berlin:20250927T140000
DTSTAMP:20260422T181431
CREATED:20250603T135649Z
LAST-MODIFIED:20250603T135649Z
UID:7180-1758967200-1758981600@judo-salzkotten.de
SUMMARY:4. KT Verbandsliga
DESCRIPTION:
URL:https://judo-salzkotten.de/event/4-kt-verbandsliga/
LOCATION:NRW
CATEGORIES:Mannschaft - Salzkotten
END:VEVENT
BEGIN:VEVENT
DTSTART;TZID=Europe/Berlin:20250928T080000
DTEND;TZID=Europe/Berlin:20250928T170000
DTSTAMP:20260422T181431
CREATED:20250919T101701Z
LAST-MODIFIED:20250919T101701Z
UID:7385-1759046400-1759078800@judo-salzkotten.de
SUMMARY:9. Internationaler Bayer Judo Cup
DESCRIPTION:
URL:https://judo-salzkotten.de/event/9-internationaler-bayer-judo-cup/
LOCATION:Leverkusen\, Leichtathletikhalle Bayer Leverkusen\, Kalkstraße 46\, Leverkusen\, NRW\, 51377\, Germany
CATEGORIES:Turnier
END:VEVENT
END:VCALENDAR