BEGIN:VCALENDAR
VERSION:2.0
PRODID:-//Judo Salzkotten - ECPv6.15.20//NONSGML v1.0//EN
CALSCALE:GREGORIAN
METHOD:PUBLISH
X-WR-CALNAME:Judo Salzkotten
X-ORIGINAL-URL:https://judo-salzkotten.de
X-WR-CALDESC:Veranstaltungen für Judo Salzkotten
REFRESH-INTERVAL;VALUE=DURATION:PT1H
X-Robots-Tag:noindex
X-PUBLISHED-TTL:PT1H
BEGIN:VTIMEZONE
TZID:Europe/Berlin
BEGIN:DAYLIGHT
TZOFFSETFROM:+0100
TZOFFSETTO:+0200
TZNAME:CEST
DTSTART:20240331T010000
END:DAYLIGHT
BEGIN:STANDARD
TZOFFSETFROM:+0200
TZOFFSETTO:+0100
TZNAME:CET
DTSTART:20241027T010000
END:STANDARD
BEGIN:DAYLIGHT
TZOFFSETFROM:+0100
TZOFFSETTO:+0200
TZNAME:CEST
DTSTART:20250330T010000
END:DAYLIGHT
BEGIN:STANDARD
TZOFFSETFROM:+0200
TZOFFSETTO:+0100
TZNAME:CET
DTSTART:20251026T010000
END:STANDARD
BEGIN:DAYLIGHT
TZOFFSETFROM:+0100
TZOFFSETTO:+0200
TZNAME:CEST
DTSTART:20260329T010000
END:DAYLIGHT
BEGIN:STANDARD
TZOFFSETFROM:+0200
TZOFFSETTO:+0100
TZNAME:CET
DTSTART:20261025T010000
END:STANDARD
END:VTIMEZONE
BEGIN:VEVENT
DTSTART;TZID=Europe/Berlin:20250701T201500
DTEND;TZID=Europe/Berlin:20250701T220000
DTSTAMP:20260422T211840
CREATED:20250603T132709Z
LAST-MODIFIED:20250603T132709Z
UID:7138-1751400900-1751407200@judo-salzkotten.de
SUMMARY:Kyu Prüfung
DESCRIPTION:
URL:https://judo-salzkotten.de/event/kyu-pruefung-2/
LOCATION:Salzkotten\, Liborius Grundschule\, Am alten Hellweg 1\, 33154 Salzkotten\, NRW\, 33154
CATEGORIES:Prüfung
END:VEVENT
BEGIN:VEVENT
DTSTART;TZID=Europe/Berlin:20250703T193000
DTEND;TZID=Europe/Berlin:20250703T210000
DTSTAMP:20260422T211840
CREATED:20250630T082633Z
LAST-MODIFIED:20250630T082633Z
UID:7309-1751571000-1751576400@judo-salzkotten.de
SUMMARY:Mannschaftstraining
DESCRIPTION:
URL:https://judo-salzkotten.de/event/mannschaftstraining/
LOCATION:Salzkotten\, Liborius Grundschule\, Am alten Hellweg 1\, 33154 Salzkotten\, NRW\, 33154
CATEGORIES:Training
END:VEVENT
BEGIN:VEVENT
DTSTART;TZID=Europe/Berlin:20250705T080000
DTEND;TZID=Europe/Berlin:20250705T170000
DTSTAMP:20260422T211840
CREATED:20250603T133010Z
LAST-MODIFIED:20250603T133010Z
UID:7140-1751702400-1751734800@judo-salzkotten.de
SUMMARY:NRW Pokal u15
DESCRIPTION:
URL:https://judo-salzkotten.de/event/nrw-pokal-u15/
LOCATION:Bottrop \, Dieter-Renz-Halle\, Hans-Bröckler-Straße / Ecke Parkstraße\, Bottrop\, NRW\, 46223
CATEGORIES:Turnier
END:VEVENT
BEGIN:VEVENT
DTSTART;TZID=Europe/Berlin:20250705T080000
DTEND;TZID=Europe/Berlin:20250705T170000
DTSTAMP:20260422T211840
CREATED:20250603T134021Z
LAST-MODIFIED:20250603T134021Z
UID:7151-1751702400-1751734800@judo-salzkotten.de
SUMMARY:3. KT Oberliga
DESCRIPTION:
URL:https://judo-salzkotten.de/event/3-kt-oberliga/
LOCATION:Salzkotten\, Hederauenhalle\, Upsprunger Straße 69\, Salzkotten\, NRW\, 33154\, Germany
CATEGORIES:Mannschaft - Paderborn
END:VEVENT
BEGIN:VEVENT
DTSTART;TZID=Europe/Berlin:20250706T090000
DTEND;TZID=Europe/Berlin:20250706T170000
DTSTAMP:20260422T211840
CREATED:20250603T133419Z
LAST-MODIFIED:20250603T133432Z
UID:7146-1751792400-1751821200@judo-salzkotten.de
SUMMARY:Kreispokalturnier 2 & ü30-Bodenturnier
DESCRIPTION:
URL:https://judo-salzkotten.de/event/kreispokalturnier-2/
LOCATION:Salzkotten\, Hederauenhalle\, Upsprunger Straße 69\, Salzkotten\, NRW\, 33154\, Germany
CATEGORIES:Turnier
END:VEVENT
END:VCALENDAR