BEGIN:VCALENDAR
VERSION:2.0
PRODID:-//Judo Salzkotten - ECPv6.15.20//NONSGML v1.0//EN
CALSCALE:GREGORIAN
METHOD:PUBLISH
X-ORIGINAL-URL:https://judo-salzkotten.de
X-WR-CALDESC:Veranstaltungen für Judo Salzkotten
REFRESH-INTERVAL;VALUE=DURATION:PT1H
X-Robots-Tag:noindex
X-PUBLISHED-TTL:PT1H
BEGIN:VTIMEZONE
TZID:Europe/Berlin
BEGIN:DAYLIGHT
TZOFFSETFROM:+0100
TZOFFSETTO:+0200
TZNAME:CEST
DTSTART:20240331T010000
END:DAYLIGHT
BEGIN:STANDARD
TZOFFSETFROM:+0200
TZOFFSETTO:+0100
TZNAME:CET
DTSTART:20241027T010000
END:STANDARD
BEGIN:DAYLIGHT
TZOFFSETFROM:+0100
TZOFFSETTO:+0200
TZNAME:CEST
DTSTART:20250330T010000
END:DAYLIGHT
BEGIN:STANDARD
TZOFFSETFROM:+0200
TZOFFSETTO:+0100
TZNAME:CET
DTSTART:20251026T010000
END:STANDARD
BEGIN:DAYLIGHT
TZOFFSETFROM:+0100
TZOFFSETTO:+0200
TZNAME:CEST
DTSTART:20260329T010000
END:DAYLIGHT
BEGIN:STANDARD
TZOFFSETFROM:+0200
TZOFFSETTO:+0100
TZNAME:CET
DTSTART:20261025T010000
END:STANDARD
END:VTIMEZONE
BEGIN:VEVENT
DTSTART;TZID=Europe/Berlin:20250604T191500
DTEND;TZID=Europe/Berlin:20250604T220000
DTSTAMP:20260422T230211
CREATED:20250603T123541Z
LAST-MODIFIED:20250603T132331Z
UID:7121-1749064500-1749074400@judo-salzkotten.de
SUMMARY:Vorstandssitzung
DESCRIPTION:
URL:https://judo-salzkotten.de/event/vorstandssitzung/
LOCATION:Salzkotten\, René
CATEGORIES:Vorstand
END:VEVENT
BEGIN:VEVENT
DTSTART;TZID=Europe/Berlin:20250612T193000
DTEND;TZID=Europe/Berlin:20250612T210000
DTSTAMP:20260422T230211
CREATED:20250603T131829Z
LAST-MODIFIED:20250603T132359Z
UID:7127-1749756600-1749762000@judo-salzkotten.de
SUMMARY:Mannschaftstraining Juni
DESCRIPTION:
URL:https://judo-salzkotten.de/event/mannschaftstraining-juni/
LOCATION:Salzkotten\, Liborius Grundschule\, Am alten Hellweg 1\, 33154 Salzkotten\, NRW\, 33154
CATEGORIES:Mannschaft - Paderborn,Mannschaft - Salzkotten,Training
END:VEVENT
BEGIN:VEVENT
DTSTART;TZID=Europe/Berlin:20250615T100000
DTEND;TZID=Europe/Berlin:20250615T140000
DTSTAMP:20260422T230211
CREATED:20250603T131940Z
LAST-MODIFIED:20250603T141655Z
UID:7130-1749981600-1749996000@judo-salzkotten.de
SUMMARY:2. KT Verbandsliga
DESCRIPTION:
URL:https://judo-salzkotten.de/event/2-kt-verbandsliga/
LOCATION:Salzkotten\, Liborius Grundschule\, Am alten Hellweg 1\, 33154 Salzkotten\, NRW\, 33154
CATEGORIES:Mannschaft - Salzkotten
END:VEVENT
BEGIN:VEVENT
DTSTART;TZID=Europe/Berlin:20250622T140000
DTEND;TZID=Europe/Berlin:20250622T170000
DTSTAMP:20260422T230211
CREATED:20250604T195619Z
LAST-MODIFIED:20250604T200236Z
UID:7243-1750600800-1750611600@judo-salzkotten.de
SUMMARY:Prüfungs - Vorbereitungstraining
DESCRIPTION:
URL:https://judo-salzkotten.de/event/pruefungs-vorbereitungstraining/
LOCATION:Salzkotten\, Liborius Grundschule\, Am alten Hellweg 1\, 33154 Salzkotten\, NRW\, 33154
CATEGORIES:Training
END:VEVENT
BEGIN:VEVENT
DTSTART;TZID=Europe/Berlin:20250628T090000
DTEND;TZID=Europe/Berlin:20250628T170000
DTSTAMP:20260422T230211
CREATED:20250603T133201Z
LAST-MODIFIED:20250603T133201Z
UID:7143-1751101200-1751130000@judo-salzkotten.de
SUMMARY:Westfalen-Cup
DESCRIPTION:
URL:https://judo-salzkotten.de/event/westfalen-cup/
LOCATION:Meschede\, Dünefeld-Sporthalle\, Dünnefeldweg 5\, Meschede\, NRW\, 59872
CATEGORIES:Turnier
END:VEVENT
BEGIN:VEVENT
DTSTART;TZID=Europe/Berlin:20250629T130000
DTEND;TZID=Europe/Berlin:20250629T170000
DTSTAMP:20260422T230211
CREATED:20250603T132229Z
LAST-MODIFIED:20250603T132229Z
UID:7132-1751202000-1751216400@judo-salzkotten.de
SUMMARY:Kyu Prüfung
DESCRIPTION:
URL:https://judo-salzkotten.de/event/kyu-pruefung/
LOCATION:Salzkotten\, Liborius Grundschule\, Am alten Hellweg 1\, 33154 Salzkotten\, NRW\, 33154
CATEGORIES:Prüfung
END:VEVENT
END:VCALENDAR