BEGIN:VCALENDAR
VERSION:2.0
PRODID:-//Judo Salzkotten - ECPv6.15.20//NONSGML v1.0//EN
CALSCALE:GREGORIAN
METHOD:PUBLISH
X-ORIGINAL-URL:https://judo-salzkotten.de
X-WR-CALDESC:Veranstaltungen für Judo Salzkotten
REFRESH-INTERVAL;VALUE=DURATION:PT1H
X-Robots-Tag:noindex
X-PUBLISHED-TTL:PT1H
BEGIN:VTIMEZONE
TZID:Europe/Berlin
BEGIN:DAYLIGHT
TZOFFSETFROM:+0100
TZOFFSETTO:+0200
TZNAME:CEST
DTSTART:20250330T010000
END:DAYLIGHT
BEGIN:STANDARD
TZOFFSETFROM:+0200
TZOFFSETTO:+0100
TZNAME:CET
DTSTART:20251026T010000
END:STANDARD
BEGIN:DAYLIGHT
TZOFFSETFROM:+0100
TZOFFSETTO:+0200
TZNAME:CEST
DTSTART:20260329T010000
END:DAYLIGHT
BEGIN:STANDARD
TZOFFSETFROM:+0200
TZOFFSETTO:+0100
TZNAME:CET
DTSTART:20261025T010000
END:STANDARD
BEGIN:DAYLIGHT
TZOFFSETFROM:+0100
TZOFFSETTO:+0200
TZNAME:CEST
DTSTART:20270328T010000
END:DAYLIGHT
BEGIN:STANDARD
TZOFFSETFROM:+0200
TZOFFSETTO:+0100
TZNAME:CET
DTSTART:20271031T010000
END:STANDARD
BEGIN:DAYLIGHT
TZOFFSETFROM:+0100
TZOFFSETTO:+0200
TZNAME:CEST
DTSTART:20280326T010000
END:DAYLIGHT
BEGIN:STANDARD
TZOFFSETFROM:+0200
TZOFFSETTO:+0100
TZNAME:CET
DTSTART:20281029T010000
END:STANDARD
END:VTIMEZONE
BEGIN:VEVENT
DTSTART;TZID=Europe/Berlin:20260422T190000
DTEND;TZID=Europe/Berlin:20260422T210000
DTSTAMP:20260420T100903
CREATED:20260401T190007Z
LAST-MODIFIED:20260401T190030Z
UID:7928-1776884400-1776891600@judo-salzkotten.de
SUMMARY:TVS Jahreshauptversammlung
DESCRIPTION:
URL:https://judo-salzkotten.de/event/tvs-jahreshauptversammlung/
LOCATION:Salzkotten\, Ackerbürgerhaus\, Vielser Straße 8\, Salzkotten\, NRW\, 33154\, Germany
CATEGORIES:Vorstand
END:VEVENT
BEGIN:VEVENT
DTSTART;TZID=Europe/Berlin:20260425T091500
DTEND;TZID=Europe/Berlin:20260425T130000
DTSTAMP:20260420T100903
CREATED:20251013T141126Z
LAST-MODIFIED:20251013T141126Z
UID:7513-1777108500-1777122000@judo-salzkotten.de
SUMMARY:Verbandstagung NWJV
DESCRIPTION:
URL:https://judo-salzkotten.de/event/verbandstagung-nwjv/
LOCATION:Duisburg\, Sportschule Wedau\, Friedrich-Alfred-Allee 10\, Duisburg\, NRW\, 47055\, Germany
CATEGORIES:Vorstand
END:VEVENT
BEGIN:VEVENT
DTSTART;TZID=Europe/Berlin:20260426T080000
DTEND;TZID=Europe/Berlin:20260426T170000
DTSTAMP:20260420T100903
CREATED:20251013T142237Z
LAST-MODIFIED:20260115T175501Z
UID:7533-1777190400-1777222800@judo-salzkotten.de
SUMMARY:WdEM Sen
DESCRIPTION:
URL:https://judo-salzkotten.de/event/wdem-sen/
LOCATION:NRW
CATEGORIES:Turnier
END:VEVENT
BEGIN:VEVENT
DTSTART;TZID=Europe/Berlin:20260509T080000
DTEND;TZID=Europe/Berlin:20260509T170000
DTSTAMP:20260420T100903
CREATED:20251013T135041Z
LAST-MODIFIED:20251013T135041Z
UID:7467-1778313600-1778346000@judo-salzkotten.de
SUMMARY:KEM u13
DESCRIPTION:
URL:https://judo-salzkotten.de/event/kem-u13/
LOCATION:Paderborn\, Friedrich-Spee-Gesamtschule\, Weißdorfnweg 6\, Paderborn\, NRW\, 33100\, Germany
CATEGORIES:Turnier
END:VEVENT
BEGIN:VEVENT
DTSTART;TZID=Europe/Berlin:20260513T080000
DTEND;TZID=Europe/Berlin:20260513T170000
DTSTAMP:20260420T100903
CREATED:20260318T150209Z
LAST-MODIFIED:20260318T150215Z
UID:7889-1778659200-1778691600@judo-salzkotten.de
SUMMARY:Trikottag
DESCRIPTION:
URL:https://judo-salzkotten.de/event/trikottag/
LOCATION:NRW
CATEGORIES:Event
END:VEVENT
BEGIN:VEVENT
DTSTART;TZID=Europe/Berlin:20260527T191500
DTEND;TZID=Europe/Berlin:20260527T210000
DTSTAMP:20260420T100903
CREATED:20260401T195312Z
LAST-MODIFIED:20260401T195315Z
UID:7934-1779909300-1779915600@judo-salzkotten.de
SUMMARY:Vorstandssitzung
DESCRIPTION:
URL:https://judo-salzkotten.de/event/vorstandssitzung-7/
LOCATION:NRW
CATEGORIES:Vorstand
END:VEVENT
BEGIN:VEVENT
DTSTART;TZID=Europe/Berlin:20260531T080000
DTEND;TZID=Europe/Berlin:20260531T170000
DTSTAMP:20260420T100903
CREATED:20251013T134203Z
LAST-MODIFIED:20251013T134203Z
UID:7454-1780214400-1780246800@judo-salzkotten.de
SUMMARY:BEM u13
DESCRIPTION:
URL:https://judo-salzkotten.de/event/bem-u13/
LOCATION:NRW
CATEGORIES:Turnier
END:VEVENT
BEGIN:VEVENT
DTSTART;TZID=Europe/Berlin:20260607T080000
DTEND;TZID=Europe/Berlin:20260607T170000
DTSTAMP:20260420T100903
CREATED:20251110T075958Z
LAST-MODIFIED:20251110T075958Z
UID:7625-1780819200-1780851600@judo-salzkotten.de
SUMMARY:17. Klingenthal Salzkotten Marathon
DESCRIPTION:
URL:https://judo-salzkotten.de/event/17-klingenthal-salzkotten-marathon/
LOCATION:NRW
CATEGORIES:Event
END:VEVENT
BEGIN:VEVENT
DTSTART;TZID=Europe/Berlin:20260613T080000
DTEND;TZID=Europe/Berlin:20260613T170000
DTSTAMP:20260420T100903
CREATED:20251013T141327Z
LAST-MODIFIED:20251013T141327Z
UID:7517-1781337600-1781370000@judo-salzkotten.de
SUMMARY:WfEM u13
DESCRIPTION:
URL:https://judo-salzkotten.de/event/wfem-u13/
LOCATION:NRW
CATEGORIES:Turnier
END:VEVENT
BEGIN:VEVENT
DTSTART;TZID=Europe/Berlin:20260614T080000
DTEND;TZID=Europe/Berlin:20260614T170000
DTSTAMP:20260420T100903
CREATED:20251013T135120Z
LAST-MODIFIED:20251013T135120Z
UID:7469-1781424000-1781456400@judo-salzkotten.de
SUMMARY:KPT 2
DESCRIPTION:
URL:https://judo-salzkotten.de/event/kpt-2/
LOCATION:Salzkotten\, Hederauenhalle\, Upsprunger Straße 69\, Salzkotten\, NRW\, 33154\, Germany
CATEGORIES:Turnier
END:VEVENT
BEGIN:VEVENT
DTSTART;TZID=Europe/Berlin:20260620T080000
DTEND;TZID=Europe/Berlin:20260620T170000
DTSTAMP:20260420T100903
CREATED:20260119T104429Z
LAST-MODIFIED:20260119T104429Z
UID:7729-1781942400-1781974800@judo-salzkotten.de
SUMMARY:Rhein-Ruhr-Pokal u18 / sen
DESCRIPTION:
URL:https://judo-salzkotten.de/event/rhein-ruhr-pokal-u18-sen-2/
LOCATION:Velbert\, Velbert
CATEGORIES:Training
END:VEVENT
BEGIN:VEVENT
DTSTART;TZID=Europe/Berlin:20260621T080000
DTEND;TZID=Europe/Berlin:20260621T170000
DTSTAMP:20260420T100903
CREATED:20260119T104508Z
LAST-MODIFIED:20260119T104508Z
UID:7732-1782028800-1782061200@judo-salzkotten.de
SUMMARY:Rhein-Ruhr-Pokal u15
DESCRIPTION:
URL:https://judo-salzkotten.de/event/rhein-ruhr-pokal-u15-2/
LOCATION:Velbert\, Velbert
CATEGORIES:Turnier
END:VEVENT
BEGIN:VEVENT
DTSTART;TZID=Europe/Berlin:20260621T133000
DTEND;TZID=Europe/Berlin:20260621T160000
DTSTAMP:20260420T100903
CREATED:20260401T191205Z
LAST-MODIFIED:20260401T191205Z
UID:7932-1782048600-1782057600@judo-salzkotten.de
SUMMARY:Kyu Prüfung
DESCRIPTION:
URL:https://judo-salzkotten.de/event/kyu-pruefung-5/
LOCATION:Salzkotten\, Liborius Grundschule\, Am alten Hellweg 1\, 33154 Salzkotten\, NRW\, 33154
CATEGORIES:Prüfung
END:VEVENT
BEGIN:VEVENT
DTSTART;TZID=Europe/Berlin:20260628T080000
DTEND;TZID=Europe/Berlin:20260628T170000
DTSTAMP:20260420T100903
CREATED:20251013T141512Z
LAST-MODIFIED:20251013T141512Z
UID:7523-1782633600-1782666000@judo-salzkotten.de
SUMMARY:Westfalen-Cup (Kreisauswahl) u13
DESCRIPTION:
URL:https://judo-salzkotten.de/event/westfalen-cup-kreisauswahl-u13/
LOCATION:NRW
CATEGORIES:Turnier
END:VEVENT
BEGIN:VEVENT
DTSTART;TZID=Europe/Berlin:20260703T080000
DTEND;TZID=Europe/Berlin:20260705T170000
DTSTAMP:20260420T100903
CREATED:20251211T220047Z
LAST-MODIFIED:20251211T220047Z
UID:7676-1783065600-1783270800@judo-salzkotten.de
SUMMARY:Deutsche Meisterschaften Ü30
DESCRIPTION:
URL:https://judo-salzkotten.de/event/deutsche-meisterschaften-ue30/
LOCATION:NRW
CATEGORIES:Turnier
END:VEVENT
BEGIN:VEVENT
DTSTART;TZID=Europe/Berlin:20260703T180000
DTEND;TZID=Europe/Berlin:20260705T170000
DTSTAMP:20260420T100903
CREATED:20251013T141554Z
LAST-MODIFIED:20251013T142036Z
UID:7525-1783101600-1783270800@judo-salzkotten.de
SUMMARY:DEM ü30
DESCRIPTION:
URL:https://judo-salzkotten.de/event/dem-ue30/
LOCATION:NRW
CATEGORIES:Turnier
END:VEVENT
BEGIN:VEVENT
DTSTART;TZID=Europe/Berlin:20260705T080000
DTEND;TZID=Europe/Berlin:20260705T170000
DTSTAMP:20260420T100903
CREATED:20251211T215954Z
LAST-MODIFIED:20251211T215954Z
UID:7674-1783238400-1783270800@judo-salzkotten.de
SUMMARY:OpenAir Olsberg
DESCRIPTION:
URL:https://judo-salzkotten.de/event/openair-olsberg/
LOCATION:NRW
CATEGORIES:Turnier
END:VEVENT
BEGIN:VEVENT
DTSTART;TZID=Europe/Berlin:20260705T091500
DTEND;TZID=Europe/Berlin:20260705T130000
DTSTAMP:20260420T100903
CREATED:20251013T141044Z
LAST-MODIFIED:20260206T153753Z
UID:7510-1783242900-1783256400@judo-salzkotten.de
SUMMARY:Jahreshauptversammlung NWDK
DESCRIPTION:
URL:https://judo-salzkotten.de/event/jahreshauptversammlung-nwdk/
LOCATION:Duisburg\, Sportschule Wedau\, Friedrich-Alfred-Allee 10\, Duisburg\, NRW\, 47055\, Germany
CATEGORIES:NWDK,Vorstand
END:VEVENT
BEGIN:VEVENT
DTSTART;TZID=Europe/Berlin:20260711T080000
DTEND;TZID=Europe/Berlin:20260711T170000
DTSTAMP:20260420T100903
CREATED:20251013T134235Z
LAST-MODIFIED:20251013T134235Z
UID:7456-1783756800-1783789200@judo-salzkotten.de
SUMMARY:NRW Pokal der Bezirksauswahl
DESCRIPTION:
URL:https://judo-salzkotten.de/event/nrw-pokal-der-bezirksauswahl/
LOCATION:NRW
CATEGORIES:Turnier
END:VEVENT
BEGIN:VEVENT
DTSTART;TZID=Europe/Berlin:20260912T080000
DTEND;TZID=Europe/Berlin:20260912T170000
DTSTAMP:20260420T100903
CREATED:20251013T142133Z
LAST-MODIFIED:20251013T142133Z
UID:7529-1789200000-1789232400@judo-salzkotten.de
SUMMARY:LET u17\, u20
DESCRIPTION:
URL:https://judo-salzkotten.de/event/let-u17-u20-2/
LOCATION:Lünen\, Käthe-Kollwitz-Gesamtschule\, Karl-Kiehm-Weg 9\, Lünen\, NRW\, 33154\, Germany
CATEGORIES:Turnier
END:VEVENT
BEGIN:VEVENT
DTSTART;TZID=Europe/Berlin:20260913T080000
DTEND;TZID=Europe/Berlin:20260913T170000
DTSTAMP:20260420T100903
CREATED:20251013T142202Z
LAST-MODIFIED:20251013T142202Z
UID:7531-1789286400-1789318800@judo-salzkotten.de
SUMMARY:LET u14
DESCRIPTION:
URL:https://judo-salzkotten.de/event/let-u14/
LOCATION:Lünen\, Käthe-Kollwitz-Gesamtschule\, Karl-Kiehm-Weg 9\, Lünen\, NRW\, 33154\, Germany
CATEGORIES:Turnier
END:VEVENT
BEGIN:VEVENT
DTSTART;TZID=Europe/Berlin:20260913T080000
DTEND;TZID=Europe/Berlin:20260913T170000
DTSTAMP:20260420T100903
CREATED:20260119T120807Z
LAST-MODIFIED:20260309T104456Z
UID:7739-1789286400-1789318800@judo-salzkotten.de
SUMMARY:1. Kampftag Verbandsliga Frauen
DESCRIPTION:
URL:https://judo-salzkotten.de/event/1-kampftag-verbandsliga-frauen/
LOCATION:Salzkotten\, Liborius Grundschule\, Am alten Hellweg 1\, 33154 Salzkotten\, NRW\, 33154
CATEGORIES:Mannschaft - Salzkotten,Turnier
END:VEVENT
BEGIN:VEVENT
DTSTART;TZID=Europe/Berlin:20260913T110000
DTEND;TZID=Europe/Berlin:20260913T170000
DTSTAMP:20260420T100903
CREATED:20251020T065240Z
LAST-MODIFIED:20251020T070844Z
UID:7583-1789297200-1789318800@judo-salzkotten.de
SUMMARY:Volleyballturnier der Bürgerstiftung & TVS Judo
DESCRIPTION:
URL:https://judo-salzkotten.de/event/volleyballturnier-der-buergerstiftung-tvs-judo/
LOCATION:NRW
CATEGORIES:Event
END:VEVENT
BEGIN:VEVENT
DTSTART;TZID=Europe/Berlin:20260919T080000
DTEND;TZID=Europe/Berlin:20260919T170000
DTSTAMP:20260420T100903
CREATED:20260119T120842Z
LAST-MODIFIED:20260309T104755Z
UID:7741-1789804800-1789837200@judo-salzkotten.de
SUMMARY:2. Kampftag Verbandsliga Frauen
DESCRIPTION:
URL:https://judo-salzkotten.de/event/2-kampftag-verbandsliga-frauen/
LOCATION:Witten\, Sportzentrum Kälberweg\, Kälberweg 2-4\, Witten - Annen\, NRW\, 58453\, Germany
CATEGORIES:Mannschaft - Salzkotten,Turnier
END:VEVENT
BEGIN:VEVENT
DTSTART;TZID=Europe/Berlin:20260923T190000
DTEND;TZID=Europe/Berlin:20260923T210000
DTSTAMP:20260420T100903
CREATED:20251013T134631Z
LAST-MODIFIED:20251013T134631Z
UID:7458-1790190000-1790197200@judo-salzkotten.de
SUMMARY:Bezirksversammlung & Bezirksjugendtag
DESCRIPTION:
URL:https://judo-salzkotten.de/event/bezirksversammlung-bezirksjugendtag/
LOCATION:Bad Lippspringe\, Jahn-Treff\, Am Turnplatz 25\, Bad Lippspringe\, NRW\, 33175\, Germany
CATEGORIES:Vorstand
END:VEVENT
BEGIN:VEVENT
DTSTART;TZID=Europe/Berlin:20260926T080000
DTEND;TZID=Europe/Berlin:20260926T170000
DTSTAMP:20260420T100903
CREATED:20251013T142335Z
LAST-MODIFIED:20251013T142342Z
UID:7535-1790409600-1790442000@judo-salzkotten.de
SUMMARY:IT Bayer Cup u17\, u20
DESCRIPTION:
URL:https://judo-salzkotten.de/event/it-bayer-cup-u17-u20/
LOCATION:Leverkusen\, Leichtathletikhalle Bayer Leverkusen\, Kalkstraße 46\, Leverkusen\, NRW\, 51377\, Germany
CATEGORIES:Turnier
END:VEVENT
BEGIN:VEVENT
DTSTART;TZID=Europe/Berlin:20260927T080000
DTEND;TZID=Europe/Berlin:20260927T170000
DTSTAMP:20260420T100903
CREATED:20251013T142411Z
LAST-MODIFIED:20251013T142411Z
UID:7539-1790496000-1790528400@judo-salzkotten.de
SUMMARY:IT Bayer Cup u14
DESCRIPTION:
URL:https://judo-salzkotten.de/event/it-bayer-cup-u14/
LOCATION:Leverkusen\, Leichtathletikhalle Bayer Leverkusen\, Kalkstraße 46\, Leverkusen\, NRW\, 51377\, Germany
CATEGORIES:Turnier
END:VEVENT
BEGIN:VEVENT
DTSTART;TZID=Europe/Berlin:20261004T080000
DTEND;TZID=Europe/Berlin:20261004T170000
DTSTAMP:20260420T100903
CREATED:20251013T135400Z
LAST-MODIFIED:20251013T135505Z
UID:7475-1791100800-1791133200@judo-salzkotten.de
SUMMARY:Kreisversammlung & Kreisjugendtag
DESCRIPTION:
URL:https://judo-salzkotten.de/event/kreisversammlung-kreisjugendtag/
LOCATION:Bad Lippspringe\, Jahn-Treff\, Am Turnplatz 25\, Bad Lippspringe\, NRW\, 33175\, Germany
CATEGORIES:Vorstand
END:VEVENT
BEGIN:VEVENT
DTSTART;TZID=Europe/Berlin:20261004T080000
DTEND;TZID=Europe/Berlin:20261004T170000
DTSTAMP:20260420T100903
CREATED:20260119T120927Z
LAST-MODIFIED:20260309T104656Z
UID:7743-1791100800-1791133200@judo-salzkotten.de
SUMMARY:3. Kampftag Verbandsliga Frauen
DESCRIPTION:
URL:https://judo-salzkotten.de/event/3-kampftag-verbandsliga-frauen/
LOCATION:Bottrop \, Dieter-Renz-Halle\, Hans-Bröckler-Straße / Ecke Parkstraße\, Bottrop\, NRW\, 46223
CATEGORIES:Mannschaft - Salzkotten,Turnier
END:VEVENT
BEGIN:VEVENT
DTSTART;TZID=Europe/Berlin:20261010T080000
DTEND;TZID=Europe/Berlin:20261010T170000
DTSTAMP:20260420T100903
CREATED:20251013T142508Z
LAST-MODIFIED:20251013T142508Z
UID:7541-1791619200-1791651600@judo-salzkotten.de
SUMMARY:DJB-Sichtungsturnier u17
DESCRIPTION:
URL:https://judo-salzkotten.de/event/djb-sichtungsturnier-u17/
LOCATION:NRW
CATEGORIES:Turnier
END:VEVENT
BEGIN:VEVENT
DTSTART;TZID=Europe/Berlin:20261107T080000
DTEND;TZID=Europe/Berlin:20261107T170000
DTSTAMP:20260420T100903
CREATED:20260119T121011Z
LAST-MODIFIED:20260309T104729Z
UID:7745-1794038400-1794070800@judo-salzkotten.de
SUMMARY:4. Kampftag Verbandsliga Frauen
DESCRIPTION:
URL:https://judo-salzkotten.de/event/4-kampftag-verbandsliga-frauen/
LOCATION:Bottrop
CATEGORIES:Mannschaft - Salzkotten,Turnier
END:VEVENT
BEGIN:VEVENT
DTSTART;TZID=Europe/Berlin:20261113T170000
DTEND;TZID=Europe/Berlin:20261115T150000
DTSTAMP:20260420T100903
CREATED:20251029T134549Z
LAST-MODIFIED:20251124T104745Z
UID:7606-1794589200-1794754800@judo-salzkotten.de
SUMMARY:Wewelsburg '26
DESCRIPTION:
URL:https://judo-salzkotten.de/event/wewelsburg-26/
LOCATION:Wewelsburg\, Burgwall 19\, Büren-Wewelsburg\, NRW\, 33142\, Germany
CATEGORIES:Event,Lehrgang
END:VEVENT
BEGIN:VEVENT
DTSTART;TZID=Europe/Berlin:20261122T080000
DTEND;TZID=Europe/Berlin:20261122T170000
DTSTAMP:20260420T100903
CREATED:20251013T142726Z
LAST-MODIFIED:20251013T142726Z
UID:7545-1795334400-1795366800@judo-salzkotten.de
SUMMARY:NWJV-Verbandsjugendtag
DESCRIPTION:
URL:https://judo-salzkotten.de/event/nwjv-verbandsjugendtag/
LOCATION:Duisburg\, Sportschule Wedau\, Friedrich-Alfred-Allee 10\, Duisburg\, NRW\, 47055\, Germany
CATEGORIES:Vorstand
END:VEVENT
BEGIN:VEVENT
DTSTART;TZID=Europe/Berlin:20261129T080000
DTEND;TZID=Europe/Berlin:20261129T170000
DTSTAMP:20260420T100903
CREATED:20251013T135236Z
LAST-MODIFIED:20251013T135236Z
UID:7473-1795939200-1795971600@judo-salzkotten.de
SUMMARY:KPT 3
DESCRIPTION:
URL:https://judo-salzkotten.de/event/kpt-3/
LOCATION:Schloss Neuhaus\, Merschweghalle\, Merschweg 9\, Paderborn\, Schloss Neuhaus\, NRW\, 33104\, Germany
CATEGORIES:Turnier
END:VEVENT
BEGIN:VEVENT
DTSTART;TZID=Europe/Berlin:20261212T080000
DTEND;TZID=Europe/Berlin:20261212T170000
DTSTAMP:20260420T100903
CREATED:20251013T142801Z
LAST-MODIFIED:20251013T142801Z
UID:7547-1797062400-1797094800@judo-salzkotten.de
SUMMARY:Landesoffenes Mixed-Turnier
DESCRIPTION:
URL:https://judo-salzkotten.de/event/landesoffenes-mixed-turnier/
LOCATION:Hattingen\, Sportzentrum\, Talstraße 17\, Hattingen\, NRW\, 45525\, Germany
CATEGORIES:Mannschaft - Paderborn,Mannschaft - Salzkotten,Turnier
END:VEVENT
BEGIN:VEVENT
DTSTART;TZID=Europe/Berlin:20271105T170000
DTEND;TZID=Europe/Berlin:20271107T130000
DTSTAMP:20260420T100903
CREATED:20251029T134634Z
LAST-MODIFIED:20251029T134634Z
UID:7608-1825434000-1825592400@judo-salzkotten.de
SUMMARY:Wewelsburg '27
DESCRIPTION:
URL:https://judo-salzkotten.de/event/wewelsburg-27/
LOCATION:Wewelsburg\, Burgwall 19\, Büren-Wewelsburg\, NRW\, 33142\, Germany
CATEGORIES:Event,Lehrgang
END:VEVENT
END:VCALENDAR