BEGIN:VCALENDAR
VERSION:2.0
PRODID:-//Judo Salzkotten - ECPv6.15.20//NONSGML v1.0//EN
CALSCALE:GREGORIAN
METHOD:PUBLISH
X-ORIGINAL-URL:https://judo-salzkotten.de
X-WR-CALDESC:Veranstaltungen für Judo Salzkotten
REFRESH-INTERVAL;VALUE=DURATION:PT1H
X-Robots-Tag:noindex
X-PUBLISHED-TTL:PT1H
BEGIN:VTIMEZONE
TZID:Europe/Berlin
BEGIN:DAYLIGHT
TZOFFSETFROM:+0100
TZOFFSETTO:+0200
TZNAME:CEST
DTSTART:20250330T010000
END:DAYLIGHT
BEGIN:STANDARD
TZOFFSETFROM:+0200
TZOFFSETTO:+0100
TZNAME:CET
DTSTART:20251026T010000
END:STANDARD
BEGIN:DAYLIGHT
TZOFFSETFROM:+0100
TZOFFSETTO:+0200
TZNAME:CEST
DTSTART:20260329T010000
END:DAYLIGHT
BEGIN:STANDARD
TZOFFSETFROM:+0200
TZOFFSETTO:+0100
TZNAME:CET
DTSTART:20261025T010000
END:STANDARD
BEGIN:DAYLIGHT
TZOFFSETFROM:+0100
TZOFFSETTO:+0200
TZNAME:CEST
DTSTART:20270328T010000
END:DAYLIGHT
BEGIN:STANDARD
TZOFFSETFROM:+0200
TZOFFSETTO:+0100
TZNAME:CET
DTSTART:20271031T010000
END:STANDARD
END:VTIMEZONE
BEGIN:VEVENT
DTSTART;TZID=Europe/Berlin:20260321T080000
DTEND;TZID=Europe/Berlin:20260322T170000
DTSTAMP:20260422T104803
CREATED:20251013T140232Z
LAST-MODIFIED:20251013T140252Z
UID:7496-1774080000-1774198800@judo-salzkotten.de
SUMMARY:Westfalen Open u13\, u15\, u18\, Sen
DESCRIPTION:
URL:https://judo-salzkotten.de/event/westfalen-open-u13-u15-u18/
LOCATION:NRW
CATEGORIES:Turnier
END:VEVENT
BEGIN:VEVENT
DTSTART;TZID=Europe/Berlin:20260322T080000
DTEND;TZID=Europe/Berlin:20260322T170000
DTSTAMP:20260422T104803
CREATED:20251013T140458Z
LAST-MODIFIED:20251013T142828Z
UID:7505-1774166400-1774198800@judo-salzkotten.de
SUMMARY:IT u21 m
DESCRIPTION:
URL:https://judo-salzkotten.de/event/it-u21-m/
LOCATION:NRW
CATEGORIES:Turnier
END:VEVENT
END:VCALENDAR