BEGIN:VCALENDAR
VERSION:2.0
PRODID:-//Judo Salzkotten - ECPv6.15.20//NONSGML v1.0//EN
CALSCALE:GREGORIAN
METHOD:PUBLISH
X-WR-CALNAME:Judo Salzkotten
X-ORIGINAL-URL:https://judo-salzkotten.de
X-WR-CALDESC:Veranstaltungen für Judo Salzkotten
REFRESH-INTERVAL;VALUE=DURATION:PT1H
X-Robots-Tag:noindex
X-PUBLISHED-TTL:PT1H
BEGIN:VTIMEZONE
TZID:Europe/Berlin
BEGIN:DAYLIGHT
TZOFFSETFROM:+0100
TZOFFSETTO:+0200
TZNAME:CEST
DTSTART:20250330T010000
END:DAYLIGHT
BEGIN:STANDARD
TZOFFSETFROM:+0200
TZOFFSETTO:+0100
TZNAME:CET
DTSTART:20251026T010000
END:STANDARD
BEGIN:DAYLIGHT
TZOFFSETFROM:+0100
TZOFFSETTO:+0200
TZNAME:CEST
DTSTART:20260329T010000
END:DAYLIGHT
BEGIN:STANDARD
TZOFFSETFROM:+0200
TZOFFSETTO:+0100
TZNAME:CET
DTSTART:20261025T010000
END:STANDARD
BEGIN:DAYLIGHT
TZOFFSETFROM:+0100
TZOFFSETTO:+0200
TZNAME:CEST
DTSTART:20270328T010000
END:DAYLIGHT
BEGIN:STANDARD
TZOFFSETFROM:+0200
TZOFFSETTO:+0100
TZNAME:CET
DTSTART:20271031T010000
END:STANDARD
END:VTIMEZONE
BEGIN:VEVENT
DTSTART;TZID=Europe/Berlin:20260303T194500
DTEND;TZID=Europe/Berlin:20260303T213000
DTSTAMP:20260422T104335
CREATED:20260216T093806Z
LAST-MODIFIED:20260225T121415Z
UID:7778-1772567100-1772573400@judo-salzkotten.de
SUMMARY:Mannschaftstraining März 26
DESCRIPTION:
URL:https://judo-salzkotten.de/event/mannschaftstraining-2/
LOCATION:Paderborn\, Theodorschule\, Theodorstraße 1\, Paderborn\, NRW\, 33102\, Germany
CATEGORIES:Training
END:VEVENT
END:VCALENDAR