BEGIN:VCALENDAR
VERSION:2.0
PRODID:-//Judo Salzkotten - ECPv6.15.20//NONSGML v1.0//EN
CALSCALE:GREGORIAN
METHOD:PUBLISH
X-ORIGINAL-URL:https://judo-salzkotten.de
X-WR-CALDESC:Veranstaltungen für Judo Salzkotten
REFRESH-INTERVAL;VALUE=DURATION:PT1H
X-Robots-Tag:noindex
X-PUBLISHED-TTL:PT1H
BEGIN:VTIMEZONE
TZID:Europe/Berlin
BEGIN:DAYLIGHT
TZOFFSETFROM:+0100
TZOFFSETTO:+0200
TZNAME:CEST
DTSTART:20240331T010000
END:DAYLIGHT
BEGIN:STANDARD
TZOFFSETFROM:+0200
TZOFFSETTO:+0100
TZNAME:CET
DTSTART:20241027T010000
END:STANDARD
BEGIN:DAYLIGHT
TZOFFSETFROM:+0100
TZOFFSETTO:+0200
TZNAME:CEST
DTSTART:20250330T010000
END:DAYLIGHT
BEGIN:STANDARD
TZOFFSETFROM:+0200
TZOFFSETTO:+0100
TZNAME:CET
DTSTART:20251026T010000
END:STANDARD
BEGIN:DAYLIGHT
TZOFFSETFROM:+0100
TZOFFSETTO:+0200
TZNAME:CEST
DTSTART:20260329T010000
END:DAYLIGHT
BEGIN:STANDARD
TZOFFSETFROM:+0200
TZOFFSETTO:+0100
TZNAME:CET
DTSTART:20261025T010000
END:STANDARD
END:VTIMEZONE
BEGIN:VEVENT
DTSTART;TZID=Europe/Berlin:20250705T080000
DTEND;TZID=Europe/Berlin:20250705T170000
DTSTAMP:20260422T225115
CREATED:20250603T133010Z
LAST-MODIFIED:20250603T133010Z
UID:7140-1751702400-1751734800@judo-salzkotten.de
SUMMARY:NRW Pokal u15
DESCRIPTION:
URL:https://judo-salzkotten.de/event/nrw-pokal-u15/
LOCATION:Bottrop \, Dieter-Renz-Halle\, Hans-Bröckler-Straße / Ecke Parkstraße\, Bottrop\, NRW\, 46223
CATEGORIES:Turnier
END:VEVENT
BEGIN:VEVENT
DTSTART;TZID=Europe/Berlin:20250705T080000
DTEND;TZID=Europe/Berlin:20250705T170000
DTSTAMP:20260422T225115
CREATED:20250603T134021Z
LAST-MODIFIED:20250603T134021Z
UID:7151-1751702400-1751734800@judo-salzkotten.de
SUMMARY:3. KT Oberliga
DESCRIPTION:
URL:https://judo-salzkotten.de/event/3-kt-oberliga/
LOCATION:Salzkotten\, Hederauenhalle\, Upsprunger Straße 69\, Salzkotten\, NRW\, 33154\, Germany
CATEGORIES:Mannschaft - Paderborn
END:VEVENT
END:VCALENDAR